BEGIN:VCALENDAR
METHOD:PUBLISH
PRODID:-//Weblication CMS
VERSION:2.0
BEGIN:VEVENT
SUMMARY:Vera 8 - Englisch
DTSTART:20260317T000000
DTEND:20260317T235959
DESCRIPTION:
LOCATION:
UID:https://www.einstein-gym.de/aeg/termine/termine/Vera-8-Englisch.php?uid=580e8992ab3d25bd379cb5d45db6fc7b
URL:https://www.einstein-gym.de/aeg/termine/termine/Vera-8-Englisch.php
END:VEVENT
END:VCALENDAR