BEGIN:VCALENDAR
METHOD:PUBLISH
PRODID:-//Weblication CMS
VERSION:2.0
BEGIN:VEVENT
SUMMARY:Kl 7cde + 8ab - Abgabe der Wahl des Profilfaches bei der Klassenleitung
DTSTART:20260313T000000
DTEND:20260313T235959
DESCRIPTION:
LOCATION:
UID:https://www.einstein-gym.de/aeg/termine/termine/Kl-7cde-8ab-Abgabe-der-Wahl-des-Profilfaches.php?uid=5ad6d6ebc9f29201de5651f179aab30b
URL:https://www.einstein-gym.de/aeg/termine/termine/Kl-7cde-8ab-Abgabe-der-Wahl-des-Profilfaches.php
END:VEVENT
END:VCALENDAR