BEGIN:VCALENDAR
METHOD:PUBLISH
PRODID:-//Weblication CMS
VERSION:2.0
BEGIN:VEVENT
SUMMARY:30 Jahre Einstein Big Band - Konzert
DTSTART:20260308T110000
DTEND:20260308T140000
DESCRIPTION:
LOCATION:
UID:https://www.einstein-gym.de/aeg/termine/termine/30-Jahre-Einstein-Big-Band-Konzert.php?uid=a5b7bd37c5848107a294f2005c870c88
URL:https://www.einstein-gym.de/aeg/termine/termine/30-Jahre-Einstein-Big-Band-Konzert.php
END:VEVENT
END:VCALENDAR